BEGIN:VCALENDAR
VERSION:2.0
PRODID:-//IP.Board Calendar 4.2.7//EN
METHOD:PUBLISH
CALSCALE:GREGORIAN
X-WR-CALNAME:Community Calendar
BEGIN:VTIMEZONE
TZID:Europe/London
TZURL:http://tzurl.org/zoneinfo/Europe/London
X-LIC-LOCATION:Europe/London
BEGIN:DAYLIGHT
TZOFFSETFROM:+0000
TZOFFSETTO:+0100
TZNAME:BST
DTSTART:20140330T020000Z
RRULE:FREQ=YEARLY;BYMONTH=3;BYDAY=-1SU
END:DAYLIGHT
BEGIN:STANDARD
TZOFFSETFROM:+0100
TZOFFSETTO:+0000
TZNAME:GMT
DTSTART:20141026T020000Z
RRULE:FREQ=YEARLY;BYMONTH=10;BYDAY=-1SU
END:STANDARD
END:VTIMEZONE
BEGIN:VEVENT
SUMMARY:In The Money на Full Tilt - Верни свой бай-и
	н
DTSTAMP:20140815T141616Z
SEQUENCE:0
UID:27-1-ea359f33aed7b4b2c1d11f1ae9b09eae@forum.apoker.kz
ORGANIZER;CN="DOGGYLA":apoker@apoker.kz
DESCRIPTION:\nЗанимайте пр
	изовые места в турнирах SNG
	 и получите билеты на Flip-ф
	рироллы ”In The Money”
	\, в которых вы
	 сможете Вы може
	те выиграть назад с
	вой бай-ин.Акция проход
	ит в период с 15 августа по 24 августа.П
	одробно\n
DTSTART;VALUE=DATE:20140815
DTEND;VALUE=DATE:20140824
END:VEVENT
END:VCALENDAR
