BEGIN:VCALENDAR
VERSION:2.0
PRODID:-//IP.Board Calendar 4.2.7//EN
METHOD:PUBLISH
CALSCALE:GREGORIAN
X-WR-CALNAME:Community Calendar
BEGIN:VTIMEZONE
TZID:Europe/London
TZURL:http://tzurl.org/zoneinfo/Europe/London
X-LIC-LOCATION:Europe/London
BEGIN:DAYLIGHT
TZOFFSETFROM:+0000
TZOFFSETTO:+0100
TZNAME:BST
DTSTART:20150329T020000Z
RRULE:FREQ=YEARLY;BYMONTH=3;BYDAY=-1SU
END:DAYLIGHT
BEGIN:STANDARD
TZOFFSETFROM:+0100
TZOFFSETTO:+0000
TZNAME:GMT
DTSTART:20151025T020000Z
RRULE:FREQ=YEARLY;BYMONTH=10;BYDAY=-1SU
END:STANDARD
END:VTIMEZONE
BEGIN:VEVENT
SUMMARY:Фестиваль фрироллов на FullTilt:
	 гарантия $140\,000
DTSTAMP:20150505T110310Z
SEQUENCE:0
UID:113-1-ea359f33aed7b4b2c1d11f1ae9b09eae@forum.apoker.kz
ORGANIZER;CN="DOGGYLA":apoker@apoker.kz
DESCRIPTION:\nФестиваль фрироллов на FullTilt: 5-
	18 мая\n
DTSTART;VALUE=DATE:20150505
DTEND;VALUE=DATE:20150518
END:VEVENT
END:VCALENDAR
